BEGIN:VCALENDAR
VERSION:2.0
PRODID:-//hacksw/handcal//NONSGML v1.0//EN
CALSCALE:GREGORIAN
BEGIN:VEVENT
LOCATION:110 Front Street\, Hudson\, NY 12534
DESCRIPTION:
DTSTART:20260804T230000Z
DTEND:20260805T010000Z
SUMMARY:Houndmouth
URL;VALUE=URI:https://www.axs.com/events/1425369/houndmouth-tickets
DTSTAMP:20260425T125948Z
UID:69ecbac4b576d
END:VEVENT
END:VCALENDAR
