BEGIN:VCALENDAR
VERSION:2.0
PRODID:-//hacksw/handcal//NONSGML v1.0//EN
CALSCALE:GREGORIAN
BEGIN:VEVENT
LOCATION:317 Monticello Avenue\, Norfolk\, VA 23510
DESCRIPTION:
DTSTART:20261016T000000Z
DTEND:20261016T020000Z
SUMMARY:All Them Witches
URL;VALUE=URI:https://www.axs.com/events/1415240/all-them-witches-tickets
DTSTAMP:20260425T125948Z
UID:69ecbac4d8f12
END:VEVENT
END:VCALENDAR
