BEGIN:VCALENDAR
VERSION:2.0
PRODID:-//hacksw/handcal//NONSGML v1.0//EN
CALSCALE:GREGORIAN
BEGIN:VEVENT
LOCATION:1026 Spring Garden Street\, Philadelphia\, PA 19123
DESCRIPTION:THERE IS A STRICT TICKET LIMIT. ORDERS EXCEEDING SET TICKET LIMITS ARE SUBJECT TO CANCELLATION WITHOUT NOTICE.
For ADA assistance and enquiries please e-mail :&nbsp\;UTassistance@bowerypresents.com
For general help :&nbsp\;UTinfo@bowerypresents.com.
DTSTART:20261121T010000Z
DTEND:20261121T030000Z
SUMMARY:Low Cut Connie
URL;VALUE=URI:https://www.axs.com/events/1414994/low-cut-connie-tickets
DTSTAMP:20260425T125636Z
UID:69ecba0483081
END:VEVENT
END:VCALENDAR
