BEGIN:VCALENDAR
VERSION:2.0
PRODID:-//hacksw/handcal//NONSGML v1.0//EN
CALSCALE:GREGORIAN
BEGIN:VEVENT
LOCATION:708 East Broad Street\, Richmond\, VA 23219
DESCRIPTION:
DTSTART:20261015T233000Z
DTEND:20261016T013000Z
SUMMARY:Trampled By Turtles
URL;VALUE=URI:https://www.axs.com/events/1412163/trampled-by-turtles-tickets
DTSTAMP:20260424T080200Z
UID:69eb2378472f9
END:VEVENT
END:VCALENDAR
