BEGIN:VCALENDAR
VERSION:2.0
PRODID:-//hacksw/handcal//NONSGML v1.0//EN
CALSCALE:GREGORIAN
BEGIN:VEVENT
LOCATION:570 Jernee Mill Road\, Sayreville\, NJ 08872
DESCRIPTION:
DTSTART:20261020T233000Z
DTEND:20261021T013000Z
SUMMARY:The Story So Far
URL;VALUE=URI:https://www.axs.com/events/1411068/the-story-so-far-tickets
DTSTAMP:20260424T075904Z
UID:69eb22c8bf895
END:VEVENT
END:VCALENDAR
